Workbook
Name _319_1417: #REF!
Name Excel_BuiltIn__FilterDatabase_1: #REF!
Name Excel_BuiltIn__FilterDatabase_2: #REF!
Name M: #REF!
Name さくらば_けんご: #REF!
Name 滑川: #REF!
Name 桜庭_健吾: #REF!
Name 日高: #REF!

Sheet 申込書
B1: 【チャレンジトーナメント 入力上の注意】
A3: １、先ず、申込書にクラブ名・責任者氏名・住所・連絡先・e－mailを入力してください。
A4: 男子申込み・女子申込みシートに自動的に情報が入ります。
A5: ２、次に男女申込みに詳細を入力してください。
A6: 各申込みの種目は選択できるようにしてあります。そこから選択してください。
A7: 参加者数は男女申込みに入力すると、申込書に自動的に人数と参加料が入ります。
A8: 申込書の参加者数・参加料には入力しないでください。
A9: ３，申込み責任者・監督・コーチ・審判名も含め、姓と名の間には必ずスペースを
B10: いれてください。
B12: クラブ名（正式名称）
B13: 略称（８文字以内）
B14: 申込責任者氏名
B15: 住所
B16: 連絡先 電話（自宅・携帯）
B17: e－mail
C19: 氏名 | E19: 日バ登録番号 | G19: 氏名 | H19: 日バ登録番号
C20: ８/２（5・6年） | G20: １１/２８（1・2・3・4年）
B21: 監督
B22: コーチ
B23: 審判
B26: ※参加数は男女各申込みから選択していただくと、自動的に記載・計算されます。
B27: 種目 | C27: 参加者数 | G27: 参加料
A28: 1 | B28: 1年生男子シングルス | C28: 1500 | D28: 円 | E28: =COUNTIF(男子申込み!$B$16:$B$45,"BS1") -> 0 | F28: 名 | G28: =+C28*E28 -> 0 | H28: 円
A29: 2 | B29: 2年生男子シングルス | C29: 1500 | D29: 円 | E29: =COUNTIF(男子申込み!$B$16:$B$45,"BS2") -> 0 | F29: 名 | G29: =+C29*E29 -> 0 | H29: 円
A30: 3 | B30: 3年生男子シングルス | C30: 1500 | D30: 円 | E30: =COUNTIF(男子申込み!$B$16:$B$45,"BS3") -> 0 | F30: 名 | G30: =+C30*E30 -> 0 | H30: 円
A31: 4 | B31: 4年生男子シングルス | C31: 1500 | D31: 円 | E31: =COUNTIF(男子申込み!$B$16:$B$45,"BS4") -> 0 | F31: 名 | G31: =+C31*E31 -> 0 | H31: 円
A32: 5 | B32: 5年生男子シングルス | C32: 1500 | D32: 円 | E32: =COUNTIF(男子申込み!$B$16:$B$45,"BS5") -> 0 | F32: 名 | G32: =+C32*E32 -> 0 | H32: 円
A33: 6 | B33: 6年生男子シングルス | C33: 1500 | D33: 円 | E33: =COUNTIF(男子申込み!$B$16:$B$45,"BS6") -> 0 | F33: 名 | G33: =+C33*E33 -> 0 | H33: 円
A34: 1 | B34: 1年生女子シングルス | C34: 1500 | D34: 円 | E34: =COUNTIF(女子申込み!$B$16:$B$45,"GS1") -> 0 | F34: 名 | G34: =+C34*E34 -> 0 | H34: 円
A35: 2 | B35: 2年生女子シングルス | C35: 1500 | D35: 円 | E35: =COUNTIF(女子申込み!$B$16:$B$45,"GS2") -> 0 | F35: 名 | G35: =+C35*E35 -> 0 | H35: 円
A36: 3 | B36: 3年生女子シングルス | C36: 1500 | D36: 円 | E36: =COUNTIF(女子申込み!$B$16:$B$45,"GS3") -> 0 | F36: 名 | G36: =+C36*E36 -> 0 | H36: 円
A37: 4 | B37: 4年生女子シングルス | C37: 1500 | D37: 円 | E37: =COUNTIF(女子申込み!$B$16:$B$45,"GS4") -> 0 | F37: 名 | G37: =+C37*E37 -> 0 | H37: 円
A38: 5 | B38: 5年生女子シングルス | C38: 1500 | D38: 円 | E38: =COUNTIF(女子申込み!$B$16:$B$45,"GS5") -> 0 | F38: 名 | G38: =+C38*E38 -> 0 | H38: 円
A39: 6 | B39: 6年生女子シングルス | C39: 1500 | D39: 円 | E39: =COUNTIF(女子申込み!$B$16:$B$45,"GS6") -> 0 | F39: 名 | G39: =+C39*E39 -> 0 | H39: 円
B40: 合 計 | E40: =SUM(E28:E39) -> 0 | F40: 名 | G40: =SUM(G28:G39) -> 0 | H40: 円

Sheet 男子申込み
A1: 第10回 東京都小学生チャレンジトーナメント 男子申込書
B4: クラブ名（正式名称） | D4: =申込書!C12 -> 0
B5: 略称（８文字以内） | D5: =申込書!C13 -> 0
B6: 申込責任者氏名 | D6: =申込書!C14 -> 0
B7: 住所 | D7: =申込書!C15 -> 0
B8: 連絡先 電話（自宅・携帯） | D8: =申込書!C16 -> 0
B9: e－mail | D9: =申込書!C17 -> 0
A11: 種目は1年生はBS1、２年生はBS2、３年生はBS3、４年生はBS4、を選択してください。
A12: 名前・ふりがなは姓名間に必ずスペースを入れてください。
A14: 備考欄には、戦績・前年度と登録内容が変わった場合（氏名・所属）も記入してください。
B15: 種目 | C15: 名前 | D15: ふりがな | E15: 所属(略称） | F15: 学年 | G15: 日バ番号(10桁) | H15: 備考
A16: 1 | E16: =D5 -> 0
A17: 2
A18: 3
A19: 4
A20: 5
A21: 6
A22: 7
A23: 8
A24: 9
A25: 10
A26: 11
A27: 12
A28: 13
... A45: 30

Sheet 女子申込み
A1: 第10回 東京都小学生チャレンジトーナメント 女子申込書
B4: クラブ名（正式名称） | D4: =申込書!C12 -> 0
B5: 略称（８文字以内） | D5: =申込書!C13 -> 0
B6: 申込責任者氏名 | D6: =申込書!C14 -> 0
B7: 住所 | D7: =申込書!C15 -> 0
B8: 連絡先 電話（自宅・携帯） | D8: =申込書!C16 -> 0
B9: e－mail | D9: =申込書!C17 -> 0
A11: 種目は1年生はGS1、２年生はGS2、３年生はGS3、４年生はGS4、を選択してください。
A12: 名前・ふりがなは姓名間に必ずスペースを入れてください。
A14: 備考欄には、戦績・前年度と登録内容が変わった場合（氏名・所属）も記入してください。
B15: 種目 | C15: 名前 | D15: ふりがな | E15: 所属（略称） | F15: 学年 | G15: 日バ番号(10桁) | H15: 備考
A16: 1 | E16: =D5 -> 0
A17: 2
A18: 3
A19: 4
A20: 5
A21: 6
A22: 7
A23: 8
A24: 9
A25: 10
A26: 11
A27: 12
A28: 13
... A45: 30
